BEGIN:VCALENDAR
VERSION:2.0
PRODID:-//NW Goldberg Cares - ECPv6.15.20//NONSGML v1.0//EN
CALSCALE:GREGORIAN
METHOD:PUBLISH
X-WR-CALNAME:NW Goldberg Cares
X-ORIGINAL-URL:https://nwgoldbergcares.com
X-WR-CALDESC:Events for NW Goldberg Cares
REFRESH-INTERVAL;VALUE=DURATION:PT1H
X-Robots-Tag:noindex
X-PUBLISHED-TTL:PT1H
BEGIN:VTIMEZONE
TZID:America/Detroit
BEGIN:DAYLIGHT
TZOFFSETFROM:-0500
TZOFFSETTO:-0400
TZNAME:EDT
DTSTART:20240310T070000
END:DAYLIGHT
BEGIN:STANDARD
TZOFFSETFROM:-0400
TZOFFSETTO:-0500
TZNAME:EST
DTSTART:20241103T060000
END:STANDARD
BEGIN:DAYLIGHT
TZOFFSETFROM:-0500
TZOFFSETTO:-0400
TZNAME:EDT
DTSTART:20250309T070000
END:DAYLIGHT
BEGIN:STANDARD
TZOFFSETFROM:-0400
TZOFFSETTO:-0500
TZNAME:EST
DTSTART:20251102T060000
END:STANDARD
BEGIN:DAYLIGHT
TZOFFSETFROM:-0500
TZOFFSETTO:-0400
TZNAME:EDT
DTSTART:20260308T070000
END:DAYLIGHT
BEGIN:STANDARD
TZOFFSETFROM:-0400
TZOFFSETTO:-0500
TZNAME:EST
DTSTART:20261101T060000
END:STANDARD
END:VTIMEZONE
BEGIN:VEVENT
DTSTART;TZID=America/Detroit:20251012T140000
DTEND;TZID=America/Detroit:20251012T160000
DTSTAMP:20260424T000700
CREATED:20250917T185234Z
LAST-MODIFIED:20250917T185234Z
UID:2561-1760277600-1760284800@nwgoldbergcares.com
SUMMARY:Dribbling & Donuts
DESCRIPTION:Join us on Sunday\, Oct. 12 from 2-4 p.m. to celebrate the harvest season! \nWe will have hot cider and fresh donuts from Petey’s Donuts\, a petting zoo\, basketball\, and more. \nPlease note that this event is free but registration is required. \nClick here to register \nWe can’t wait to see you!
URL:https://nwgoldbergcares.com/event/dribbling-donuts/
LOCATION:CURTIS JONES PARK\, 1941 Ferry Park\, Detroit\, MI\, 48208\, United States
ATTACH;FMTTYPE=image/png:https://nwgoldbergcares.com/wp-content/uploads/2025/09/DRIBBLING-DONUTS.png
END:VEVENT
END:VCALENDAR