BEGIN:VCALENDAR
VERSION:2.0
PRODID:-//NW Goldberg Cares - ECPv6.15.20//NONSGML v1.0//EN
CALSCALE:GREGORIAN
METHOD:PUBLISH
X-WR-CALNAME:NW Goldberg Cares
X-ORIGINAL-URL:https://nwgoldbergcares.com
X-WR-CALDESC:Events for NW Goldberg Cares
REFRESH-INTERVAL;VALUE=DURATION:PT1H
X-Robots-Tag:noindex
X-PUBLISHED-TTL:PT1H
BEGIN:VTIMEZONE
TZID:America/Detroit
BEGIN:DAYLIGHT
TZOFFSETFROM:-0500
TZOFFSETTO:-0400
TZNAME:EDT
DTSTART:20250309T070000
END:DAYLIGHT
BEGIN:STANDARD
TZOFFSETFROM:-0400
TZOFFSETTO:-0500
TZNAME:EST
DTSTART:20251102T060000
END:STANDARD
BEGIN:DAYLIGHT
TZOFFSETFROM:-0500
TZOFFSETTO:-0400
TZNAME:EDT
DTSTART:20260308T070000
END:DAYLIGHT
BEGIN:STANDARD
TZOFFSETFROM:-0400
TZOFFSETTO:-0500
TZNAME:EST
DTSTART:20261101T060000
END:STANDARD
BEGIN:DAYLIGHT
TZOFFSETFROM:-0500
TZOFFSETTO:-0400
TZNAME:EDT
DTSTART:20270314T070000
END:DAYLIGHT
BEGIN:STANDARD
TZOFFSETFROM:-0400
TZOFFSETTO:-0500
TZNAME:EST
DTSTART:20271107T060000
END:STANDARD
END:VTIMEZONE
BEGIN:VEVENT
DTSTART;TZID=America/Detroit:20260501T180000
DTEND;TZID=America/Detroit:20260501T200000
DTSTAMP:20260423T115751
CREATED:20260214T032914Z
LAST-MODIFIED:20260215T134302Z
UID:3286-1777658400-1777665600@nwgoldbergcares.com
SUMMARY:KARAOKE FIESTA
DESCRIPTION:We’re celebrating Cinco de Mayo a few days early with a karaoke fiesta! \nThe event will feature tacos\, adult beverages\, and of course\, everyone’s favorite – karaoke! \nThere’s no better way to kick off the start of summer at SPOTLIGHT PARK \nPlease note\, this event exclusively for people ages 21 and up. \nRegister Now
URL:https://nwgoldbergcares.com/event/karaokefiesta/
LOCATION:SPOTLIGHT PARK\, 5945 Linwood St\, Detroit\, MI\, 48208\, United States
ATTACH;FMTTYPE=image/png:https://nwgoldbergcares.com/wp-content/uploads/2026/02/KARAOKE-FIESTA.png
END:VEVENT
BEGIN:VEVENT
DTSTART;TZID=America/Detroit:20260517T110000
DTEND;TZID=America/Detroit:20260517T140000
DTSTAMP:20260423T115751
CREATED:20260202T193116Z
LAST-MODIFIED:20260213T053107Z
UID:3041-1779015600-1779026400@nwgoldbergcares.com
SUMMARY:Dodgeball Challenge
DESCRIPTION:We’re back like we never left.\n\nIt’s like gym class\, but better. \nFor the FOURTH year in a row\, the challenge is ON. \nThis fundraising event will result in finding out who the ultimate dodgeball champion of the neighborhood is\, with bragging rights for a full year. \n\n  \nDETAILS\n\nSunday\, May 17\, 2026\n11:00 a.m. til A CHAMP IS CROWNED (no later than 2 p.m.) \nCURTIS JONES PARK\n1941 Ferry Park\nDetroit\, MI 48208 \n\n  \nREGISTRATION DETAILS\n\nFREE AGENT – $25\nThis registration gets you assigned to a team! \nFULL TEAM – $150\nThis allows you to bring a full team of six players. Your team captain will be featured on our website and our social media pages. \n*Please note that both registrations include lunch! \nRegister Now\n \nAll funds raised will go towards youth summer programming and activities in the NW Goldberg neighborhood! \n\nTEAMS:\nComing Soon!
URL:https://nwgoldbergcares.com/event/dodgeball-challenge/
LOCATION:CURTIS JONES PARK\, 1941 Ferry Park\, Detroit\, MI\, 48208\, United States
ATTACH;FMTTYPE=image/jpeg:https://nwgoldbergcares.com/wp-content/uploads/2026/02/Dodgeball-2026-featured.jpg
END:VEVENT
BEGIN:VEVENT
DTSTART;TZID=America/Detroit:20260625T180000
DTEND;TZID=America/Detroit:20260625T200000
DTSTAMP:20260423T115751
CREATED:20260215T133846Z
LAST-MODIFIED:20260215T134146Z
UID:3296-1782410400-1782417600@nwgoldbergcares.com
SUMMARY:FAMILY KARAOKE NIGHT
DESCRIPTION:Ready to show off your skills and sing your favorite songs?! \nJoin us for FAMILY KARAOKE NIGHT! \nFood and fun will be available at this festive family event at SPOTLIGHT PARK. \nRegister Now
URL:https://nwgoldbergcares.com/event/familykaraoke/
LOCATION:SPOTLIGHT PARK\, 5945 Linwood St\, Detroit\, MI\, 48208\, United States
ATTACH;FMTTYPE=image/png:https://nwgoldbergcares.com/wp-content/uploads/2026/02/FAMILY-KARAOKE-Graphic.png
END:VEVENT
BEGIN:VEVENT
DTSTART;TZID=America/Detroit:20260712T140000
DTEND;TZID=America/Detroit:20260712T160000
DTSTAMP:20260423T115751
CREATED:20260215T134656Z
LAST-MODIFIED:20260215T134939Z
UID:3300-1783864800-1783872000@nwgoldbergcares.com
SUMMARY:ICE CREAM SOCIAL
DESCRIPTION:Come one\, come all to the SIXTH annual ICE CREAM SOCIAL! \nJoin us for Ben & Jerry’s ice cream\, games\, and community merriment from 2:00 – 4:00 p.m. \nWe can’t wait to see you! \nRegister Now
URL:https://nwgoldbergcares.com/event/icecreamsocial/
LOCATION:ART PARK\, 6102 16th Street\, Detroit\, MI\, 48208\, United States
ATTACH;FMTTYPE=image/png:https://nwgoldbergcares.com/wp-content/uploads/2026/02/Ice-Cream-Social-1.png
END:VEVENT
BEGIN:VEVENT
DTSTART;TZID=America/Detroit:20260805T180000
DTEND;TZID=America/Detroit:20260805T200000
DTSTAMP:20260423T115751
CREATED:20260215T135211Z
LAST-MODIFIED:20260215T135433Z
UID:3303-1785952800-1785960000@nwgoldbergcares.com
SUMMARY:SUNSET & S'MORES
DESCRIPTION:Join us for our fourth annual s’mores party in the NW Goldberg neighborhood! \nFamilies can enjoy fire pits\, a variety of s’mores\, and friendship at the ART PARK! \nThis event is free to attend but registration is required. \nRegister Now
URL:https://nwgoldbergcares.com/event/smores/
LOCATION:ART PARK\, 6102 16th Street\, Detroit\, MI\, 48208\, United States
ATTACH;FMTTYPE=image/png:https://nwgoldbergcares.com/wp-content/uploads/2026/02/SUNSET-SMORES-Graphic-2.png
END:VEVENT
BEGIN:VEVENT
DTSTART;TZID=America/Detroit:20260920T110000
DTEND;TZID=America/Detroit:20260920T140000
DTSTAMP:20260423T115751
CREATED:20260213T153250Z
LAST-MODIFIED:20260215T143208Z
UID:3263-1789902000-1789912800@nwgoldbergcares.com
SUMMARY:KICKBALL CLASSIC
DESCRIPTION:It’s time again to kick for a cause with the SIXTH ANNUAL KICKBALL CLASSIC! \nCan TEAM BLUE come back from their first loss\, or will TEAM YELLOW keep their reign going!. \n  \nDETAILS\n\nSunday\, September 20\, 2026\n11:00 a.m. til GAME OVA’ (around 2 p.m.) \nBISHOP PARK\n6100 Grand River Ave.\nDetroit\, MI 48208 \n\n  \nREGISTRATION DETAILS\n\nThe $50 registration donation gets you on a team and a tasty lunch. \nRegister Now\n \nAll funds raised will go towards youth summer programming and activities in the NW Goldberg neighborhood! \n\nCAPTAINS:\nComing Soon!
URL:https://nwgoldbergcares.com/event/kickball-classic/
LOCATION:Bishop Park\, 6100 Grand River Ave.\, Detroit\, 48208\, United States
ATTACH;FMTTYPE=image/png:https://nwgoldbergcares.com/wp-content/uploads/2026/02/Kickball-Flyer-Instagram-Post.png
END:VEVENT
BEGIN:VEVENT
DTSTART;TZID=America/Detroit:20260927T140000
DTEND;TZID=America/Detroit:20260927T160000
DTSTAMP:20260423T115751
CREATED:20260214T005035Z
LAST-MODIFIED:20260214T005916Z
UID:3276-1790517600-1790524800@nwgoldbergcares.com
SUMMARY:CATS & CHARCUTERIE
DESCRIPTION:You didn’t think that we’d have an event for dogs\, and then not have something for our feline friends too\, did you!? \nJoin us for our fourth annual CATS & CHARCUTERIE! \nFeel free to bring your cat friends! \nThank you to our amazing partners at the Mutter Maid for making this event possible! \nThis event is free but registration is required. \nRegister Now
URL:https://nwgoldbergcares.com/event/cats2026/
LOCATION:ART PARK\, 6102 16th Street\, Detroit\, MI\, 48208\, United States
ATTACH;FMTTYPE=image/png:https://nwgoldbergcares.com/wp-content/uploads/2026/02/CATS-CHARCUTERIE-2.png
END:VEVENT
BEGIN:VEVENT
DTSTART;TZID=America/Detroit:20261011T140000
DTEND;TZID=America/Detroit:20261011T160000
DTSTAMP:20260423T115751
CREATED:20260215T135901Z
LAST-MODIFIED:20260215T140327Z
UID:3306-1791727200-1791734400@nwgoldbergcares.com
SUMMARY:DRIBBLING & DONUTS
DESCRIPTION:Join us on Sunday\, Oct. 11 from 2-4 p.m. to celebrate the harvest season! \nWe will have hot cider and fresh donuts from Petey’s Donuts\, a petting zoo\, basketball\, and more. \nPlease note that this event is free but registration is required. \nWe can’t wait to see you! \nRegister Now
URL:https://nwgoldbergcares.com/event/donuts/
LOCATION:CURTIS JONES PARK\, 1941 Ferry Park\, Detroit\, MI\, 48208\, United States
ATTACH;FMTTYPE=image/png:https://nwgoldbergcares.com/wp-content/uploads/2026/02/DRIBBLING-DONUTS-2.png
END:VEVENT
END:VCALENDAR