BEGIN:VCALENDAR
VERSION:2.0
PRODID:-//NW Goldberg Cares - ECPv6.15.20//NONSGML v1.0//EN
CALSCALE:GREGORIAN
METHOD:PUBLISH
X-ORIGINAL-URL:https://nwgoldbergcares.com
X-WR-CALDESC:Events for NW Goldberg Cares
REFRESH-INTERVAL;VALUE=DURATION:PT1H
X-Robots-Tag:noindex
X-PUBLISHED-TTL:PT1H
BEGIN:VTIMEZONE
TZID:America/Detroit
BEGIN:DAYLIGHT
TZOFFSETFROM:-0500
TZOFFSETTO:-0400
TZNAME:EDT
DTSTART:20240310T070000
END:DAYLIGHT
BEGIN:STANDARD
TZOFFSETFROM:-0400
TZOFFSETTO:-0500
TZNAME:EST
DTSTART:20241103T060000
END:STANDARD
BEGIN:DAYLIGHT
TZOFFSETFROM:-0500
TZOFFSETTO:-0400
TZNAME:EDT
DTSTART:20250309T070000
END:DAYLIGHT
BEGIN:STANDARD
TZOFFSETFROM:-0400
TZOFFSETTO:-0500
TZNAME:EST
DTSTART:20251102T060000
END:STANDARD
BEGIN:DAYLIGHT
TZOFFSETFROM:-0500
TZOFFSETTO:-0400
TZNAME:EDT
DTSTART:20260308T070000
END:DAYLIGHT
BEGIN:STANDARD
TZOFFSETFROM:-0400
TZOFFSETTO:-0500
TZNAME:EST
DTSTART:20261101T060000
END:STANDARD
END:VTIMEZONE
BEGIN:VEVENT
DTSTART;TZID=America/Detroit:20250921T140000
DTEND;TZID=America/Detroit:20250921T160000
DTSTAMP:20260423T235410
CREATED:20250917T184112Z
LAST-MODIFIED:20250917T184258Z
UID:2553-1758463200-1758470400@nwgoldbergcares.com
SUMMARY:Cats & Charcuterie
DESCRIPTION:You didn’t think that we’d have an event for dogs\, and then not have something for our feline friends too\, did you!? \nJoin us for our third annual CATS & CHARCUTERIE! \nFeel free to bring your cat friends! \nThank you to our amazing partners at the Mutter Maid for making this event possible! \nThis event is free but registration is required. \nClick Here to Register
URL:https://nwgoldbergcares.com/event/cats-charcuterie/
LOCATION:ART PARK\, 6102 16th Street\, Detroit\, MI\, 48208\, United States
ATTACH;FMTTYPE=image/png:https://nwgoldbergcares.com/wp-content/uploads/2025/09/CATS-CHARCUTERIE.png
END:VEVENT
END:VCALENDAR