BEGIN:VCALENDAR
VERSION:2.0
PRODID:-//NW Goldberg Cares - ECPv6.15.20//NONSGML v1.0//EN
CALSCALE:GREGORIAN
METHOD:PUBLISH
X-ORIGINAL-URL:https://nwgoldbergcares.com
X-WR-CALDESC:Events for NW Goldberg Cares
REFRESH-INTERVAL;VALUE=DURATION:PT1H
X-Robots-Tag:noindex
X-PUBLISHED-TTL:PT1H
BEGIN:VTIMEZONE
TZID:America/Detroit
BEGIN:DAYLIGHT
TZOFFSETFROM:-0500
TZOFFSETTO:-0400
TZNAME:EDT
DTSTART:20250309T070000
END:DAYLIGHT
BEGIN:STANDARD
TZOFFSETFROM:-0400
TZOFFSETTO:-0500
TZNAME:EST
DTSTART:20251102T060000
END:STANDARD
BEGIN:DAYLIGHT
TZOFFSETFROM:-0500
TZOFFSETTO:-0400
TZNAME:EDT
DTSTART:20260308T070000
END:DAYLIGHT
BEGIN:STANDARD
TZOFFSETFROM:-0400
TZOFFSETTO:-0500
TZNAME:EST
DTSTART:20261101T060000
END:STANDARD
BEGIN:DAYLIGHT
TZOFFSETFROM:-0500
TZOFFSETTO:-0400
TZNAME:EDT
DTSTART:20270314T070000
END:DAYLIGHT
BEGIN:STANDARD
TZOFFSETFROM:-0400
TZOFFSETTO:-0500
TZNAME:EST
DTSTART:20271107T060000
END:STANDARD
END:VTIMEZONE
BEGIN:VEVENT
DTSTART;TZID=America/Detroit:20260222T100000
DTEND;TZID=America/Detroit:20260222T120000
DTSTAMP:20260423T163306
CREATED:20260214T014313Z
LAST-MODIFIED:20260214T015158Z
UID:3280-1771754400-1771761600@nwgoldbergcares.com
SUMMARY:PUZZLE CHALLENGE - SEASON 3\, VOL. 1
DESCRIPTION:We’re back with YEAR 3 of our PUZZLE CHALLENGE! \nPuzzles. \nPizza. \nPrizes. \nThe competition is on… \nCome on out on Sunday\, Feb. 22 from 10 a.m. to Noon at Michigan & Trumbull and see if you have what it takes to win! \nUp to four people per team\, and the competition is open to five teams. \nA mini-pizza buffet will be provided\, but you are welcome to order additional food and/or beverages (or to take home!). \nRegister your team today! \nRegister Now
URL:https://nwgoldbergcares.com/event/2026puzzlechallenge1/
LOCATION:Michigan & Trumbull\, 1331 Holden St #100\, Detroit\, 48202\, United States
ATTACH;FMTTYPE=image/png:https://nwgoldbergcares.com/wp-content/uploads/2026/02/PUZZLE-CHALLENGE.png
END:VEVENT
END:VCALENDAR